BEGIN:VCALENDAR
VERSION:2.0
PRODID:-//https://rvfr-aus.org.au///NONSGML kigkonsult.se iCalcreator 2.10.15//
METHOD:PUBLISH
BEGIN:VEVENT
UID:20260424T163111UTC-1102jrIpLm@https://rvfr-aus.org.au/
DTSTAMP:20260424T163111Z
DESCRIPTION:Boss Drovers: Brian and Kay Irvine\nClick Here for Registration
  Form&nbsp\;V2. Send your Registration Form to Brian by 9 February please.
 \nMuster Report - Click here
DTSTART:20210228T065400Z
DTEND:20210307T085400Z
LOCATION:Big4 Park Beach Holiday Park\, 1 Ocean Parade Coffs Harbour ()
SUMMARY:Eastern Zone to Coffs Harbour
END:VEVENT
END:VCALENDAR
