BEGIN:VCALENDAR
VERSION:2.0
PRODID:-//https://rvfr-aus.org.au///NONSGML kigkonsult.se iCalcreator 2.10.15//
METHOD:PUBLISH
BEGIN:VEVENT
UID:20260424T162414UTC-1531lJcwzC@https://rvfr-aus.org.au/
DTSTAMP:20260424T162414Z
DESCRIPTION:Boss Drovers: John and Heather Spath\nNRMA Sydney Lakeside Holi
 day Park\n38 Lake Park Road\, Narrabeen\, PH: 1800 008 845\nInvite from Jo
 hn Spath to Muster - Click Here\nMuster Registration Form - Click Here\n&n
 bsp\;\n&nbsp\;
DTSTART:20210325T070100Z
DTEND:20210329T090100Z
LOCATION:Sydney Lakeside Caravan Park Narrabeen NSW (NRMA Sydney Lakeside H
 oliday Park\, 38 Lake Park Rd\, North Narrabeen NSW 2101\, Australia)
SUMMARY:Eastern Zone to Sydney -  CANCELLED
END:VEVENT
END:VCALENDAR
