BEGIN:VCALENDAR
VERSION:2.0
PRODID:-//https://rvfr-aus.org.au///NONSGML kigkonsult.se iCalcreator 2.10.15//
METHOD:PUBLISH
BEGIN:VEVENT
UID:20260424T162456UTC-60450u9oze@https://rvfr-aus.org.au/
DTSTAMP:20260424T162456Z
DESCRIPTION:Boss Drovers: Peter and Collette McArdle\nDraft Muster Program 
 - Click here\nCanberra Rock 'N Roll Flyer @ Canberra Tourist Park - Click 
 here\nThe special site rate for the eight (8) days is $318. As the muster 
 start is the ANZAC weekend\, you need to make a park booking &nbsp\;now to
  secure sites\nCanberra Park telephone No is (02) 6130 1000.\nRegistration
  Form - Click Here\nOthers Things to Do or See - Click Here
DTSTART:20210424T070500Z
DTEND:20210502T090500Z
LOCATION:Canberra Park\, cnr Federal Higway and Old Well Station Road\, Can
 berra ()
SUMMARY:Canberra Explored
END:VEVENT
END:VCALENDAR
