BEGIN:VCALENDAR
VERSION:2.0
PRODID:-//https://rvfr-aus.org.au///NONSGML kigkonsult.se iCalcreator 2.10.15//
METHOD:PUBLISH
BEGIN:VEVENT
UID:20260424T162713UTC-81674U5xvx@https://rvfr-aus.org.au/
DTSTAMP:20260424T162713Z
DESCRIPTION:Boss Drovers - Dugald and Judy Graydon\, Garry and Val Cullen
DTSTART:20210324T001500Z
DTEND:20210331T021500Z
LOCATION:Tenterfield Showground Caravan Park\, 62 Miles St\, Tenterfield NS
 W 2372 ()
SUMMARY:Tenterfield - 'Bards of the Bush Festival' Northern Zone
END:VEVENT
END:VCALENDAR
