BEGIN:VCALENDAR
VERSION:2.0
PRODID:-//https://rvfr-aus.org.au///NONSGML kigkonsult.se iCalcreator 2.10.15//
METHOD:PUBLISH
BEGIN:VEVENT
UID:20260421T171609UTC-3664Ms7saX@https://rvfr-aus.org.au/
DTSTAMP:20260421T171609Z
DESCRIPTION:Boss Drover: John Spath\nFor more info email John Spath on&nbsp
 \;treasurer@rvfr-aus.org.au
DTSTART:20260920T230000Z
DTEND:20261123T230000Z
LOCATION:Dubbo\, NSW ()
SUMMARY:Eastern Zone Rolling Muster to WA for the National AGM 2026
END:VEVENT
END:VCALENDAR
