BEGIN:VCALENDAR
VERSION:2.0
PRODID:-//https://rvfr-aus.org.au///NONSGML kigkonsult.se iCalcreator 2.10.15//
METHOD:PUBLISH
BEGIN:VEVENT
UID:20260421T171402UTC-0497wDX3dD@https://rvfr-aus.org.au/
DTSTAMP:20260421T171402Z
DESCRIPTION:Drovers: TBA\nFor more info email the Eastern Zone Chairperson 
 on&nbsp\;ezchair@rvfr-aus.org.au
DTSTART:20261125T020000Z
DTEND:20261202T000000Z
LOCATION:Bathurst NSW 2795\, Australia (Bathurst NSW 2795\, Australia)
SUMMARY:Eastern Zone AGM Muster at Bathurst
END:VEVENT
END:VCALENDAR
