BEGIN:VCALENDAR
VERSION:2.0
PRODID:-//https://rvfr-aus.org.au///NONSGML kigkonsult.se iCalcreator 2.10.15//
METHOD:PUBLISH
BEGIN:VEVENT
UID:20260421T134434UTC-9883RbgLBa@https://rvfr-aus.org.au/
DTSTAMP:20260421T134434Z
DESCRIPTION:Drovers: Brian &amp\; Liz Chapman
DTSTART:20260511T040000Z
DTEND:20260518T000000Z
LOCATION:Stockton Beach Caravan Park Stockton NSW ()
SUMMARY:Eastern Zone to Stockton (NSW)
END:VEVENT
END:VCALENDAR
